BEGIN:VCALENDAR
VERSION:2.0
PRODID:icalendar-ruby
CALSCALE:GREGORIAN
METHOD:PUBLISH
BEGIN:VEVENT
DTSTAMP:20260421T145624Z
UID:31a02f13-c6d9-47fd-84ad-4b2e92b67b7e
DTSTART:20260513T170000
DTEND:20260513T180000
LOCATION: Online via Zoom
SUMMARY:Krebs mit 28 - und plötzlich ist alles anders
END:VEVENT
END:VCALENDAR
